View In:
ArcGIS JavaScript
ArcGIS Online Map Viewer
ArcGIS Earth
ArcGIS Pro
Service Description: This map is used for editing SARCOP Data. When your map includes web feature layers or web tile layers, you can take the map offline and complete your work without a network connection. The Download Map button is available if your map contains layers that are configured appropriately to support downloading content, such as the following. See documentation here https://pro.arcgis.com/en/pro-app/latest/help/projects/take-a-map-offline.htm
Map Name: Editing Sandbox Data
Legend
All Layers and Tables
Layers:
Description: This map is used for editing SARCOP Data. When your map includes web feature layers or web tile layers, you can take the map offline and complete your work without a network connection. The Download Map button is available if your map contains layers that are configured appropriately to support downloading content, such as the following. See documentation here https://pro.arcgis.com/en/pro-app/latest/help/projects/take-a-map-offline.htm
Service Item Id: 8b602be2f2c7460bbbd31e55d3a8f9e6
Copyright Text: NSARGC
Spatial Reference:
102100
(3857)
LatestVCSWkid(0)
Single Fused Map Cache: true
Tile Info:
- Height: 256
- Width: 256
- DPI: 96
-
Levels of Detail: 24
-
Level ID: 1
[ Start Tile, End Tile ]
- Resolution: 78271.5169639999
- Scale: 2.95828763795777E8
-
Level ID: 2
[ Start Tile, End Tile ]
- Resolution: 39135.7584820001
- Scale: 1.47914381897889E8
-
Level ID: 3
[ Start Tile, End Tile ]
- Resolution: 19567.8792409999
- Scale: 7.3957190948944E7
-
Level ID: 4
[ Start Tile, End Tile ]
- Resolution: 9783.93962049996
- Scale: 3.6978595474472E7
-
Level ID: 5
[ Start Tile, End Tile ]
- Resolution: 4891.96981024998
- Scale: 1.8489297737236E7
- Format: Mixed
- Compression Quality: 75.0
- Origin: X: -2.0037508342787E7
Y: 2.0037508342787E7
- Spatial Reference: 102100
(3857)
LatestVCSWkid(0)
Storage Info:
- Storage Format: esriMapCacheStorageModeCompactV2
- Packet Size: 128
Initial Extent:
XMin: -1.0273807176320119E7
YMin: 4725939.619190595
XMax: -1.0263693740936926E7
YMax: 4729004.296579442
Spatial Reference: 102100
(0)
LatestVCSWkid(0)
Full Extent:
XMin: -1.8619343005178902E7
YMin: 385311.28954707104
XMax: -6152505.452036958
YMax: 1.7736774096889406E7
Spatial Reference: 102100
(0)
LatestVCSWkid(0)
Units: esriMeters
Supported Image Format Types: PNG32,PNG24,PNG,JPG,DIB,TIFF,EMF,PS,PDF,GIF,SVG,SVGZ,BMP
Document Info:
Title: SARCOP Editing Map
Author:
Comments: This map is used for editing SARCOP Data. When your map includes web feature layers or web tile layers, you can take the map offline and complete your work without a network connection. The Download Map button is available if your map contains layers that are configured appropriately to support downloading content, such as the following. See documentation here https://pro.arcgis.com/en/pro-app/latest/help/projects/take-a-map-offline.htm
Subject: This map is used for editing SARCOP Data. Important, use the Offline Editing Workflow to avoid making edits to the feature layers before reviewing.
Category:
Keywords: SARCOP
AntialiasingMode: Fast
TextAntialiasingMode: Force
Supports Dynamic Layers: false
MaxRecordCount: 1000
MaxImageHeight: 4096
MaxImageWidth: 4096
Supported Query Formats: JSON, geoJSON, PBF
Supports Query Data Elements: true
Min Scale: 577790.554289
Max Scale: 70.5310735
Supports Datum Transformation: true
Child Resources:
Info
Supported Operations:
QueryLegends
Return Updates